BEGIN:VCALENDAR
VERSION:2.0
METHOD:PUBLISH
X-WR-CALNAME;VALUE=TEXT:Agenda #5112
PRODID:-//Drupal iCal API//EN
BEGIN:VEVENT
SUMMARY: Semaine Transport &amp; Logistique Pôle Emploi-Espace Yookan
DTSTART: 20221206T130000
DTEND: 20221206T170000
DESCRIPTION: Dans le cadre de la semaine du transport et logistique, organisée par&nbsp;Pôle Emploi&nbsp;du 5 au 9 décembre,&nbsp;sur l'ensemble du territoire national, la Délégation Ile-de-France de l'AFT TRANSPORT &amp; LOGISTIQUE&nbsp;sera présente à l'espace Yookan&nbsp;avec ses entreprises partenaires (Le groupe BERTO, Mauffrey&nbsp;et STEF&nbsp;pour une présentation des métiers et&nbsp;formations de la logistique et du transport.

&nbsp;

&nbsp;
END:VEVENT
END:VCALENDAR
