BEGIN:VCALENDAR
VERSION:2.0
METHOD:PUBLISH
X-WR-CALNAME;VALUE=TEXT:Agenda #5111
PRODID:-//Drupal iCal API//EN
BEGIN:VEVENT
SUMMARY: Webinaire national : Les stéréotypes dans le transport-logistique
DTSTART: 20221209T090000
DTEND: 20221209T103000
DESCRIPTION: Prescripteurs et prescriptrices, participez à notre prochain webinaire de sensibilisation à la mixité dans le transport et la logistique !

&nbsp;
END:VEVENT
END:VCALENDAR
