BEGIN:VCALENDAR
VERSION:2.0
METHOD:PUBLISH
X-WR-CALNAME;VALUE=TEXT:Agenda #5110
PRODID:-//Drupal iCal API//EN
BEGIN:VEVENT
SUMMARY: Webinaire national : Le transport, une activité qui se conjugue au féminin !
DTSTART: 20221209T080000
DTEND: 20221209T090000
DESCRIPTION: Vous êtes à la recherche d'un emploi dans un secteur en tension ?

&nbsp;

Découvrez en 1 heure le monde du transport et ses métiers qui recrutent lors de notre webinaire dédié aux demandeuses d'emploi.

&nbsp;



&nbsp;
END:VEVENT
END:VCALENDAR
