BEGIN:VCALENDAR
VERSION:2.0
METHOD:PUBLISH
X-WR-CALNAME;VALUE=TEXT:Agenda #5107
PRODID:-//Drupal iCal API//EN
BEGIN:VEVENT
SUMMARY: Semaine nationale transport-logistique : BERTO PROVENCE ouvre ses portes en Avignon !
DTSTART: 20221209T130000
DTEND: 20221209T150000
DESCRIPTION: L'entreprise BERTO PROVENCE organise avec l'AFT TRANSPORT LOGISTIQUE PACA CORSE une visite de son dépôt d'Avignon le vendredi 09/12 après-midi dans le cadre de la semaine nationale transport-logistique pilotée par Pôle emploi.
END:VEVENT
END:VCALENDAR
