BEGIN:VCALENDAR
VERSION:2.0
METHOD:PUBLISH
X-WR-CALNAME;VALUE=TEXT:Agenda #5106
PRODID:-//Drupal iCal API//EN
BEGIN:VEVENT
SUMMARY: Le GROUPE TRANSCAN ouvre les portes de son dépôt de Nice lors de la semaine nationale transport logistique
DTSTART: 20221206T080000
DTEND: 20221206T110000
DESCRIPTION: L'équipe des conseillères et conseillers de Pôle emploi vont pouvoir s'immerger dans le secteur transport-logistique lors de la visite de l'entreprise TRANSCAN à Nice organisée dans le cadre de la semaine nationale transport logistique.
END:VEVENT
END:VCALENDAR
