BEGIN:VCALENDAR
VERSION:2.0
METHOD:PUBLISH
X-WR-CALNAME;VALUE=TEXT:Agenda #5105
PRODID:-//Drupal iCal API//EN
BEGIN:VEVENT
SUMMARY: Semaine nationale transport-logistique : Les Transports Bremond ouvrent leurs portes
DTSTART: 20221208T080000
DTEND: 20221208T150000
DESCRIPTION: Dans le cadre de la semaine nationale du transport et de la logistique mise en place par Pôle emploi, l'AFT PACA CORSE organise avec les TRANSPORTS BREMOND une journée porte ouverte au sein de la structure à Peyruis (04) !

&nbsp;



&nbsp;
END:VEVENT
END:VCALENDAR
