BEGIN:VCALENDAR
VERSION:2.0
METHOD:PUBLISH
X-WR-CALNAME;VALUE=TEXT:Agenda #5101
PRODID:-//Drupal iCal API//EN
BEGIN:VEVENT
SUMMARY: Semaine Transport &amp; Logistique - Pôle Emploi Paris 8ème
DTSTART: 20221206T083000
DTEND: 20221206T110000
DESCRIPTION: Dans le cadre de la semaine du transport et logistique, organisée par Pôle Emploi du 5 au 9 décembre,&nbsp;sur l'ensemble du territoire national, l'AFT Transport &amp; Logistique Ile-de-France sera présente au Pôle Emploi de Paris 8ème&nbsp;pour une présentation des métiers/ formation de la logistique et du transport.
END:VEVENT
END:VCALENDAR
