BEGIN:VCALENDAR
VERSION:2.0
METHOD:PUBLISH
X-WR-CALNAME;VALUE=TEXT:Agenda #5028
PRODID:-//Drupal iCal API//EN
BEGIN:VEVENT
SUMMARY: Occitanie : PRESCRIPT'heures
DTSTART: 20221212T130000
DTEND: 20221212T130000
DESCRIPTION: Vous êtes conseillers et professionnels de l’orientation et de l’insertion alors venez &nbsp;nous rejoindre en visio le Lundi 12 décembre&nbsp;prochain à 14h.

Thème du jour : La Logistique&nbsp;

En savoir plus&nbsp;

&nbsp;




&nbsp;
END:VEVENT
BEGIN:VEVENT
SUMMARY: Occitanie : PRESCRIPT'heures
DTSTART: 20221212T130000
DTEND: 20221212T130000
DESCRIPTION: Vous êtes conseillers et professionnels de l’orientation et de l’insertion alors venez &nbsp;nous rejoindre en visio le Lundi 12 décembre&nbsp;prochain à 14h.

Thème du jour : La Logistique&nbsp;

En savoir plus&nbsp;

&nbsp;




&nbsp;
END:VEVENT
END:VCALENDAR
