BEGIN:VCALENDAR
VERSION:2.0
METHOD:PUBLISH
X-WR-CALNAME;VALUE=TEXT:Agenda #4444
PRODID:-//Drupal iCal API//EN
BEGIN:VEVENT
SUMMARY: ALES : Les métiers du Transport et de la Logistique aux jeunes de l'Ecole de la 2eme chance
DTSTART: 20240709T113000
DTEND: 20240709T113000
DESCRIPTION: L'AFT fera découvrir, mardi 9 juillet prochain de 13h30 à 15h,&nbsp;les métiers du Transport et de la Logistique et ses opportunités en terme d'emploi&nbsp;à des jeunes de l'Ecole de la seconde chance.&nbsp;
END:VEVENT
BEGIN:VEVENT
SUMMARY: ALES : Les métiers du Transport et de la Logistique aux jeunes de l'Ecole de la 2eme chance
DTSTART: 20240709T113000
DTEND: 20240709T113000
DESCRIPTION: L'AFT fera découvrir, mardi 9 juillet prochain de 13h30 à 15h,&nbsp;les métiers du Transport et de la Logistique et ses opportunités en terme d'emploi&nbsp;à des jeunes de l'Ecole de la seconde chance.&nbsp;
END:VEVENT
BEGIN:VEVENT
SUMMARY: ALES : Les métiers du Transport et de la Logistique aux jeunes de l'Ecole de la 2eme chance
DTSTART: 20240709T113000
DTEND: 20240709T113000
DESCRIPTION: L'AFT fera découvrir, mardi 9 juillet prochain de 13h30 à 15h,&nbsp;les métiers du Transport et de la Logistique et ses opportunités en terme d'emploi&nbsp;à des jeunes de l'Ecole de la seconde chance.&nbsp;
END:VEVENT
END:VCALENDAR
