BEGIN:VCALENDAR
VERSION:2.0
METHOD:PUBLISH
X-WR-CALNAME;VALUE=TEXT:Agenda #3454
PRODID:-//Drupal iCal API//EN
BEGIN:VEVENT
SUMMARY: Toulouse : Zoom métiers Transport sanitaire
DTSTART: 20260324T130000
DTEND: 20260324T130000
DESCRIPTION: Venez nous rejoindre le mardi 24 mars&nbsp;prochain de 14h&nbsp;à 16h&nbsp;pour participer au Focus métiers Transport Sanitaire&nbsp;à la Maison de l'Orientation de Toulouse Bellefontaine.

&nbsp; Alors n'attendez pas !&nbsp;

Inscription obligatoire auprès de la Maison de l'orientation de Toulouse-Bellefontaine&nbsp;
END:VEVENT
BEGIN:VEVENT
SUMMARY: Toulouse : Zoom métiers Transport sanitaire
DTSTART: 20260324T130000
DTEND: 20260324T130000
DESCRIPTION: Venez nous rejoindre le mardi 24 mars&nbsp;prochain de 14h&nbsp;à 16h&nbsp;pour participer au Focus métiers Transport Sanitaire&nbsp;à la Maison de l'Orientation de Toulouse Bellefontaine.

&nbsp; Alors n'attendez pas !&nbsp;

Inscription obligatoire auprès de la Maison de l'orientation de Toulouse-Bellefontaine&nbsp;
END:VEVENT
BEGIN:VEVENT
SUMMARY: Toulouse : Zoom métiers Transport sanitaire
DTSTART: 20260324T130000
DTEND: 20260324T130000
DESCRIPTION: Venez nous rejoindre le mardi 24 mars&nbsp;prochain de 14h&nbsp;à 16h&nbsp;pour participer au Focus métiers Transport Sanitaire&nbsp;à la Maison de l'Orientation de Toulouse Bellefontaine.

&nbsp; Alors n'attendez pas !&nbsp;

Inscription obligatoire auprès de la Maison de l'orientation de Toulouse-Bellefontaine&nbsp;
END:VEVENT
BEGIN:VEVENT
SUMMARY: Toulouse : Zoom métiers Transport sanitaire
DTSTART: 20260324T130000
DTEND: 20260324T130000
DESCRIPTION: Venez nous rejoindre le mardi 24 mars&nbsp;prochain de 14h&nbsp;à 16h&nbsp;pour participer au Focus métiers Transport Sanitaire&nbsp;à la Maison de l'Orientation de Toulouse Bellefontaine.

&nbsp; Alors n'attendez pas !&nbsp;

Inscription obligatoire auprès de la Maison de l'orientation de Toulouse-Bellefontaine&nbsp;
END:VEVENT
END:VCALENDAR
