BEGIN:VCALENDAR
VERSION:2.0
METHOD:PUBLISH
X-WR-CALNAME;VALUE=TEXT:Agenda #3258
PRODID:-//Drupal iCal API//EN
BEGIN:VEVENT
SUMMARY: Montauban -  Salon TAF - Travail Avenir Formation
DTSTART: 20260401T060000
DTEND: 20260401T160000
DESCRIPTION: Participation de l'AFT Occitanie au Salon du Travail Avenir Formation (TAF) qu'organise la Région le 1er avril&nbsp;prochain.
END:VEVENT
BEGIN:VEVENT
SUMMARY: Montauban -  Salon TAF - Travail Avenir Formation
DTSTART: 20260401T060000
DTEND: 20260401T160000
DESCRIPTION: Participation de l'AFT Occitanie au Salon du Travail Avenir Formation (TAF) qu'organise la Région le 1er avril&nbsp;prochain.
END:VEVENT
BEGIN:VEVENT
SUMMARY: Montauban -  Salon TAF - Travail Avenir Formation
DTSTART: 20260401T060000
DTEND: 20260401T160000
DESCRIPTION: Participation de l'AFT Occitanie au Salon du Travail Avenir Formation (TAF) qu'organise la Région le 1er avril&nbsp;prochain.
END:VEVENT
BEGIN:VEVENT
SUMMARY: Montauban -  Salon TAF - Travail Avenir Formation
DTSTART: 20260401T060000
DTEND: 20260401T160000
DESCRIPTION: Participation de l'AFT Occitanie au Salon du Travail Avenir Formation (TAF) qu'organise la Région le 1er avril&nbsp;prochain.
END:VEVENT
END:VCALENDAR
