BEGIN:VCALENDAR
VERSION:2.0
METHOD:PUBLISH
X-WR-CALNAME;VALUE=TEXT:Agenda #3257
PRODID:-//Drupal iCal API//EN
BEGIN:VEVENT
SUMMARY: Toulouse - Salon TAF - Travail Avenir Formation
DTSTART: 20250319T070000
DTEND: 20250320T170000
DESCRIPTION: Participation de l'AFT Occitanie au Salon du Travail Avenir Formation (TAF) qu'organise la Région du 19&nbsp;au 20 Mars&nbsp;prochain.

Nous vous ferons découvrir les métiers "Transport Logistique" à l'aide de notre Réalité virtuelle.&nbsp;

&nbsp;

&nbsp;
END:VEVENT
BEGIN:VEVENT
SUMMARY: Toulouse - Salon TAF - Travail Avenir Formation
DTSTART: 20250319T070000
DTEND: 20250320T170000
DESCRIPTION: Participation de l'AFT Occitanie au Salon du Travail Avenir Formation (TAF) qu'organise la Région du 19&nbsp;au 20 Mars&nbsp;prochain.

Nous vous ferons découvrir les métiers "Transport Logistique" à l'aide de notre Réalité virtuelle.&nbsp;

&nbsp;

&nbsp;
END:VEVENT
BEGIN:VEVENT
SUMMARY: Toulouse - Salon TAF - Travail Avenir Formation
DTSTART: 20250319T070000
DTEND: 20250320T170000
DESCRIPTION: Participation de l'AFT Occitanie au Salon du Travail Avenir Formation (TAF) qu'organise la Région du 19&nbsp;au 20 Mars&nbsp;prochain.

Nous vous ferons découvrir les métiers "Transport Logistique" à l'aide de notre Réalité virtuelle.&nbsp;

&nbsp;

&nbsp;
END:VEVENT
BEGIN:VEVENT
SUMMARY: Toulouse - Salon TAF - Travail Avenir Formation
DTSTART: 20250319T070000
DTEND: 20250320T170000
DESCRIPTION: Participation de l'AFT Occitanie au Salon du Travail Avenir Formation (TAF) qu'organise la Région du 19&nbsp;au 20 Mars&nbsp;prochain.

Nous vous ferons découvrir les métiers "Transport Logistique" à l'aide de notre Réalité virtuelle.&nbsp;

&nbsp;

&nbsp;
END:VEVENT
END:VCALENDAR
