BEGIN:VCALENDAR
VERSION:2.0
METHOD:PUBLISH
X-WR-CALNAME;VALUE=TEXT:Agenda #3214
PRODID:-//Drupal iCal API//EN
BEGIN:VEVENT
SUMMARY: Montpellier : Salon TAF -  Travail Avenir Formation
DTSTART: 20250326T070000
DTEND: 20250327T170000
DESCRIPTION: Participation de l'AFT Occitanie au Salon&nbsp;du Travail Avenir Formation (TAF) qu'organise la Région du 26&nbsp;au 27&nbsp;mars&nbsp;prochain.&nbsp;

&nbsp;
END:VEVENT
BEGIN:VEVENT
SUMMARY: Montpellier : Salon TAF -  Travail Avenir Formation
DTSTART: 20250326T070000
DTEND: 20250327T170000
DESCRIPTION: Participation de l'AFT Occitanie au Salon&nbsp;du Travail Avenir Formation (TAF) qu'organise la Région du 26&nbsp;au 27&nbsp;mars&nbsp;prochain.&nbsp;

&nbsp;
END:VEVENT
BEGIN:VEVENT
SUMMARY: Montpellier : Salon TAF -  Travail Avenir Formation
DTSTART: 20250326T070000
DTEND: 20250327T170000
DESCRIPTION: Participation de l'AFT Occitanie au Salon&nbsp;du Travail Avenir Formation (TAF) qu'organise la Région du 26&nbsp;au 27&nbsp;mars&nbsp;prochain.&nbsp;

&nbsp;
END:VEVENT
BEGIN:VEVENT
SUMMARY: Montpellier : Salon TAF -  Travail Avenir Formation
DTSTART: 20250326T070000
DTEND: 20250327T170000
DESCRIPTION: Participation de l'AFT Occitanie au Salon&nbsp;du Travail Avenir Formation (TAF) qu'organise la Région du 26&nbsp;au 27&nbsp;mars&nbsp;prochain.&nbsp;

&nbsp;
END:VEVENT
END:VCALENDAR
