BEGIN:VCALENDAR
VERSION:2.0
METHOD:PUBLISH
X-WR-CALNAME;VALUE=TEXT:Agenda #3037
PRODID:-//Drupal iCal API//EN
BEGIN:VEVENT
SUMMARY: Rencontre avec des professionnels de la logistique le 20 Novembre 2020
DTSTART: 20201120T093000
DTEND: 20201120T110000
DESCRIPTION: De nombreuses opportunités d'emploi en transport et logistique, accessibles avec ou sans expérience vous attendent ! Le 20 Novembre 2020 à 10H30 (connexion 10 mn avant).
END:VEVENT
END:VCALENDAR
