BEGIN:VCALENDAR
VERSION:2.0
METHOD:PUBLISH
X-WR-CALNAME;VALUE=TEXT:Agenda #3021
PRODID:-//Drupal iCal API//EN
BEGIN:VEVENT
SUMMARY: Réunion OPTL en Auvergne-Rhône-Alpes
DTSTART: 20201103T100000
DTEND: 20201103T113000
DESCRIPTION: Les membres de l'OPTL (Observatoire Prospectif des métiers et des qualifications dans les Transports et le Logistique) se sont réunis mardi 3 novembre
END:VEVENT
BEGIN:VEVENT
SUMMARY: Réunion OPTL en Auvergne-Rhône-Alpes
DTSTART: 20201103T100000
DTEND: 20201103T113000
DESCRIPTION: Les membres de l'OPTL (Observatoire Prospectif des métiers et des qualifications dans les Transports et le Logistique) se sont réunis mardi 3 novembre
END:VEVENT
END:VCALENDAR
