BEGIN:VCALENDAR
VERSION:2.0
METHOD:PUBLISH
X-WR-CALNAME;VALUE=TEXT:Agenda #1410
PRODID:-//Drupal iCal API//EN
BEGIN:VEVENT
SUMMARY: Semaine du Transport et de la Logistique - 8 - 12 avril 2019
DTSTART: 20190407T220000
DTEND: 20190411T220000
DESCRIPTION: La Délégation régionale Île-de-France prend une part très active dans la semaine du Transport et de la Logistique du bassin d'Emploi du Grand Roissy - Le Bourget du 8 au 12 avril 2019.
END:VEVENT
BEGIN:VEVENT
SUMMARY: Semaine du Transport et de la Logistique - 8 - 12 avril 2019
DTSTART: 20190407T220000
DTEND: 20190411T220000
DESCRIPTION: La Délégation régionale Île-de-France prend une part très active dans la semaine du Transport et de la Logistique du bassin d'Emploi du Grand Roissy - Le Bourget du 8 au 12 avril 2019.
END:VEVENT
BEGIN:VEVENT
SUMMARY: Semaine du Transport et de la Logistique - 8 - 12 avril 2019
DTSTART: 20190407T220000
DTEND: 20190411T220000
DESCRIPTION: La Délégation régionale Île-de-France prend une part très active dans la semaine du Transport et de la Logistique du bassin d'Emploi du Grand Roissy - Le Bourget du 8 au 12 avril 2019.
END:VEVENT
END:VCALENDAR
